BEGIN:VCALENDAR
VERSION:2.0
PRODID:-//ERT//LNF26//DE
VERSION:2.0
BEGIN:VEVENT
UID:station_6996_20260324T160000Z
DTSTAMP:20260419T130300Z
URL:https://ert.langenachtderforschung.at/station/6996
DTSTART:20260324T160000Z
DTEND:20260424T210000Z
SUMMARY:[LNF26] Das Politik-Quiz! Was wissen Sie über Österreich, Europa und die Welt?
DESCRIPTION:Testen Sie jetzt Ihr Wissen! Egal ob alleine oder in der Gruppe. Es geht um Politik in Österreich, der EU und weltweit. Einfach mit dem eigenen Smartphone den QR-Code scannen und los geht's!
LOCATION:Innrain 52, 6020 Innsbruck
GEO:47.26306350;11.38418912
END:VEVENT
END:VCALENDAR