BEGIN:VCALENDAR
VERSION:2.0
PRODID:-//ERT//LNF26//DE
VERSION:2.0
BEGIN:VEVENT
UID:station_6998_20260324T160000Z
DTSTAMP:20260419T130900Z
URL:https://ert.langenachtderforschung.at/station/6998
DTSTART:20260324T160000Z
DTEND:20260424T210000Z
SUMMARY:[LNF26] Wie funktioniert die EU? Legislativity – Das Spiel zur EU-Gesetzgebung
DESCRIPTION:Im Spiel LEGISLATIVITY wetteifern unterschiedliche Vorstellungen und Interessen darum, EU-Gesetz zu werden und die notwendigen Mehrheiten in Kommission, Ministerrat und Europäischem Parlament zu erhalten. Auf dem langen Weg zum Gesetz lauern Unwägbarkeiten aller Art: Lobbyisten, bröckelnde Mehrheiten, Demonstrationen. Lernen Sie spielerisch, wie Politik in der EU funktioniert!
LOCATION:Innrain 52, 6020 Innsbruck
GEO:47.26306350;11.38418912
END:VEVENT
END:VCALENDAR