BEGIN:VCALENDAR
VERSION:2.0
PRODID:-//ERT//LNF26//DE
VERSION:2.0
BEGIN:VEVENT
UID:station_7041_20260324T160000Z
DTSTAMP:20260420T003100Z
URL:https://ert.langenachtderforschung.at/station/7041
DTSTART:20260324T160000Z
DTEND:20260424T204500Z
SUMMARY:[LNF26] Auf Temperatur gebracht – was erforscht die Thermoanalyse?
DESCRIPTION:Warum darf eine Silikonform in den Backofen und ins Gefrierfach – andere Kunststoffe aber nicht? Warum schmilzt Schokolade und wird beim Abkühlen wieder fest? Mit der Dynamischen Differenzkalorimetrie (DSC) machen wir sichtbar, was Materialien bei Wärme und Kälte erleben. Entdecke, wie wir mit moderner Messtechnik alltägliche Phänomene verstehen.
LOCATION:Anton-Paar-Straße 20, 8054 Graz
GEO:47.03112409;15.40448964
END:VEVENT
END:VCALENDAR