BEGIN:VCALENDAR
VERSION:2.0
PRODID:-//ERT//LNF26//DE
VERSION:2.0
BEGIN:VEVENT
UID:station_7046_20260424T183000Z
DTSTAMP:20260422T225700Z
URL:https://ert.langenachtderforschung.at/station/7046
DTSTART:20260424T183000Z
DTEND:20260424T193000Z
SUMMARY:[LNF26] Crashkurs Investieren: Was sollte jede*r über Geld wissen?
DESCRIPTION:„Erklär mir die Welt“ Live-Podcast mit Andreas Sator (Erklär mir die Welt) und Bettina Fuhrmann
LOCATION:Welthandelsplatz 1 TC, 1020 Wien
GEO:48.21250068;16.41016927
END:VEVENT
END:VCALENDAR