BEGIN:VCALENDAR
VERSION:2.0
PRODID:-//ERT//LNF26//DE
VERSION:2.0
BEGIN:VEVENT
UID:station_7048_20260424T163000Z
DTSTAMP:20260422T224900Z
URL:https://ert.langenachtderforschung.at/station/7048
DTSTART:20260424T163000Z
DTEND:20260424T173000Z
SUMMARY:[LNF26] Wie gut kennst du dich mit Geld aus?
DESCRIPTION:In der „Millionenshow“ können Kinder ihr Finanzwissen spielerisch auf die Probe stellen – mit kniffligen Fragen rund um Kaufen, Sparen und Taschengeld. Auf die Gewinner*innen warten tolle Preise.
LOCATION:Welthandelsplatz 1 TC, 1020 Wien
GEO:48.21250068;16.41016927
END:VEVENT
END:VCALENDAR