BEGIN:VCALENDAR
VERSION:2.0
PRODID:-//ERT//LNF26//DE
VERSION:2.0
BEGIN:VEVENT
UID:station_7101_20260324T160000Z
DTSTAMP:20260421T082900Z
URL:https://ert.langenachtderforschung.at/station/7101
DTSTART:20260324T160000Z
DTEND:20260424T210000Z
SUMMARY:[LNF26] Katastrophenfest? Ein Plan für Tirols Krankenhäuser
DESCRIPTION:Diese Station zeigt, wie ein speziell für den alpinen Raum entwickelter Katastrophenvorbereitungs‑Check Krankenhäuser dabei unterstützt, auf extreme Ereignisse wie Hitzeperioden, Stromausfälle oder andere Störungen besser vorbereitet zu sein.
LOCATION:Eduard-Wallnöfer-Zentrum 1, 6060 Hall in Tirol
GEO:47.28386550;11.51740640
END:VEVENT
END:VCALENDAR