BEGIN:VCALENDAR
VERSION:2.0
PRODID:-//ERT//LNF26//DE
VERSION:2.0
BEGIN:VEVENT
UID:station_7131_20260324T160000Z
DTSTAMP:20260420T033600Z
URL:https://ert.langenachtderforschung.at/station/7131
DTSTART:20260324T160000Z
DTEND:20260424T210000Z
SUMMARY:[LNF26] Was verrät die Mikroskopie über das Altern?
DESCRIPTION:Erkunden Sie, wie Ihr Körper altert und was dabei in Ihren Zellen passiert. Mit moderner Fluoreszenzmikroskopie sehen Sie leuchtende Zellen und beeindruckende 3D-Bilder. Erleben Sie selbst, wie Forschung funktioniert – ein spannender Einblick in Healthy Aging für Groß und Klein.
LOCATION:Neue Stiftingtalstraße 6 (Aula und Hörsäle im Erdgeschoss), 8010 Graz
GEO:47.08049167;15.46980679
END:VEVENT
END:VCALENDAR