BEGIN:VCALENDAR
VERSION:2.0
PRODID:-//ERT//LNF26//DE
VERSION:2.0
BEGIN:VEVENT
UID:station_7132_20260324T160000Z
DTSTAMP:20260420T033600Z
URL:https://ert.langenachtderforschung.at/station/7132
DTSTART:20260324T160000Z
DTEND:20260424T210000Z
SUMMARY:[LNF26] Was Fadenwürmer jünger macht – und uns vielleicht auch?
DESCRIPTION:Erleben Sie, wie Zellen altern – von der DNA bis zu zellulären Signalwegen! An unserer Mitmachstation isolieren Sie selbst DNA, analysieren Zellorganellen alternder Zellen, beobachten an Fadenwürmern, wie neue Anti-Aging-Strategien in zelluläre Signalwege eingreifen – und Sie können sogar die Hand von jemand anderem steuern! Kommen Sie vorbei und tauchen ein in die Alterungsforschung!
LOCATION:Neue Stiftingtalstraße 6 (Aula und Hörsäle im Erdgeschoss), 8010 Graz
GEO:47.08049167;15.46980679
END:VEVENT
END:VCALENDAR