BEGIN:VCALENDAR
VERSION:2.0
PRODID:-//ERT//LNF26//DE
VERSION:2.0
BEGIN:VEVENT
UID:station_7135_20260324T160000Z
DTSTAMP:20260420T033800Z
URL:https://ert.langenachtderforschung.at/station/7135
DTSTART:20260324T160000Z
DTEND:20260424T210000Z
SUMMARY:[LNF26] Wie blickt man mit 800 Megahertz ins Innere des Alterns?
DESCRIPTION:Wie kann man hunderte Stoffwechselprodukte gleichzeitig messen? Bei unserer Station erhalten Sie exklusive Einblicke in die 600- und 800-MHz-NMR-Spektrometer von MetAGE und der Med Uni Graz. In kurzen Führungen wird gezeigt, wie NMR-Spektroskopie hilft, Stoffwechselveränderungen beim Altern zu verstehen und neue Wirkstoffe zu entwickeln – von der Probe bis zur wissenschaftlichen Erkenntnis.
LOCATION:Neue Stiftingtalstraße 6 (Aula und Hörsäle im Erdgeschoss), 8010 Graz
GEO:47.08049167;15.46980679
END:VEVENT
END:VCALENDAR