BEGIN:VCALENDAR
VERSION:2.0
PRODID:-//ERT//LNF26//DE
VERSION:2.0
BEGIN:VEVENT
UID:station_7137_20260324T160000Z
DTSTAMP:20260420T033800Z
URL:https://ert.langenachtderforschung.at/station/7137
DTSTART:20260324T160000Z
DTEND:20260424T210000Z
SUMMARY:[LNF26] Winzige Helfer auf großer Mission – wie steuern wir Medikamente punktgenau mit Magneten?
DESCRIPTION:Wie können winzige Partikel Medikamente gezielt im Körper transportieren? An unserer Station erfahren Sie, wie magnetische Nanomaterialien als „Medikamenten Taxis“ funktionieren. Sie steuern Partikel mit Magneten durch ein Modell Blutgefäß und sehen, wie Forschung Nebenwirkungen reduziert und Therapien präziser macht – ein wichtiger Baustein für Gesundes Altern.
LOCATION:Neue Stiftingtalstraße 6 (Aula und Hörsäle im Erdgeschoss), 8010 Graz
GEO:47.08049167;15.46980679
END:VEVENT
END:VCALENDAR