BEGIN:VCALENDAR
VERSION:2.0
PRODID:-//ERT//LNF26//DE
VERSION:2.0
BEGIN:VEVENT
UID:station_7141_20260324T160000Z
DTSTAMP:20260420T033800Z
URL:https://ert.langenachtderforschung.at/station/7141
DTSTART:20260324T160000Z
DTEND:20260424T210000Z
SUMMARY:[LNF26] Molekulare Fabrik: Wie funktioniert die Chemie des Lebens?
DESCRIPTION:Was ist ein Molekül und wie beschreibt die Chemie seine Eigenschaften? Wie entstehen neue Medikamente? An unserer Station du bewegen Sie sich von der Sprache der Chemie bis zur Wirkung von Arzneistoffen im Körper. Sie führen Experimente zur Metallanalyse in biologischen Proben durch und erfahren, wie solche Methoden zur Forschung für Gesundes Altern beitragen.
LOCATION:Neue Stiftingtalstraße 6 (Aula und Hörsäle im Erdgeschoss), 8010 Graz
GEO:47.08049167;15.46980679
END:VEVENT
END:VCALENDAR