BEGIN:VCALENDAR
VERSION:2.0
PRODID:-//ERT//LNF26//DE
VERSION:2.0
BEGIN:VEVENT
UID:station_7142_20260324T160000Z
DTSTAMP:20260420T033800Z
URL:https://ert.langenachtderforschung.at/station/7142
DTSTART:20260324T160000Z
DTEND:20260424T210000Z
SUMMARY:[LNF26] Was hat unser Stoffwechsel mit gesundem Altern zu tun?
DESCRIPTION:Unser Stoffwechsel verändert sich im Laufe des Lebens und das hat großen Einfluss darauf, wie gesund wir bleiben. Am MetAGE Stand können Sie entdecken, was beim Älterwerden im Körper passiert, warum der Stoffwechsel dabei eine so wichtige Rolle spielt und wie Forschung dazu beiträgt, möglichst lange gesund zu bleiben. Egal ob jung oder alt: Sie können spielerisch zentrale Prozesse des Alterns kennenlernen.
LOCATION:Neue Stiftingtalstraße 6 (Aula und Hörsäle im Erdgeschoss), 8010 Graz
GEO:47.08049167;15.46980679
END:VEVENT
END:VCALENDAR