BEGIN:VCALENDAR
VERSION:2.0
PRODID:-//ERT//LNF26//DE
VERSION:2.0
BEGIN:VEVENT
UID:station_7144_20260324T160000Z
DTSTAMP:20260420T033800Z
URL:https://ert.langenachtderforschung.at/station/7144
DTSTART:20260324T160000Z
DTEND:20260424T210000Z
SUMMARY:[LNF26] Welchen Beitrag leisten klinische Studien für ein „Healthy Aging“?
DESCRIPTION:Klinische Forschung hilft dabei, Risikofaktoren zu erkennen, die Einfluss auf Gesundes Altern haben können. An unserer Station erfahren Sie, welche Faktoren bereits bekannt sind und wie neue durch Forschung entdeckt werden. Sie lernen, wie klinische Studien funktionieren und warum sie entscheidend sind, um Gesundheit im Alter besser zu verstehen.
LOCATION:Neue Stiftingtalstraße 6 (Aula und Hörsäle im Erdgeschoss), 8010 Graz
GEO:47.08049167;15.46980679
END:VEVENT
END:VCALENDAR