BEGIN:VCALENDAR
VERSION:2.0
PRODID:-//ERT//LNF26//DE
VERSION:2.0
BEGIN:VEVENT
UID:station_7147_20260324T160000Z
DTSTAMP:20260420T051900Z
URL:https://ert.langenachtderforschung.at/station/7147
DTSTART:20260324T160000Z
DTEND:20260424T210000Z
SUMMARY:[LNF26] Was macht die Haut zum Superhelden-Organ?
DESCRIPTION:Was erzählt Ihnen die Haut? An unserer Station entdecken Sie, wie Hautveränderungen erkannt werden und wann man sie kontrollieren lassen sollte. Sie lernen die ABCDE-Regel kennen, testen verschiedene Pflegeprodukte im Blind Test und sehen unter UV Licht, was auf Ihrer Haut lebt. Außerdem erfahren Sie, warum Sonnenschutz wichtig ist – ein zentraler Faktor für Gesundes Altern.
LOCATION:Neue Stiftingtalstraße 6 (Aula und Hörsäle im Erdgeschoss), 8010 Graz
GEO:47.08049167;15.46980679
END:VEVENT
END:VCALENDAR