BEGIN:VCALENDAR
VERSION:2.0
PRODID:-//ERT//LNF26//DE
VERSION:2.0
BEGIN:VEVENT
UID:station_7148_20260324T160000Z
DTSTAMP:20260420T033600Z
URL:https://ert.langenachtderforschung.at/station/7148
DTSTART:20260324T160000Z
DTEND:20260424T210000Z
SUMMARY:[LNF26] Room of Horror – Trauen Sie sich, einzutreten?
DESCRIPTION:Ein "Room of Horror" ist ein interaktives Lernerlebnis, das das Bewusstsein für Patient:innensicherheit schärfen soll. In einem simulierten Umfeld sind absichtlich Fehler und Risiken versteckt, die von den Besucher:innen innerhalb eines vorgegebenen Zeitrahmens aufgedeckt werden sollen.
LOCATION:Neue Stiftingtalstraße 6 (Aula und Hörsäle im Erdgeschoss), 8010 Graz
GEO:47.08049167;15.46980679
END:VEVENT
END:VCALENDAR