BEGIN:VCALENDAR
VERSION:2.0
PRODID:-//ERT//LNF26//DE
VERSION:2.0
BEGIN:VEVENT
UID:station_7150_20260324T160000Z
DTSTAMP:20260420T033800Z
URL:https://ert.langenachtderforschung.at/station/7150
DTSTART:20260324T160000Z
DTEND:20260424T210000Z
SUMMARY:[LNF26] Was passiert wenn Feuer Spuren hinterlässt? Moderne Technologien, die Leben retten
DESCRIPTION:Erleben Sie, wie moderne Medizin Leben rettet: An unserer Station erfahren Sie, was bei schweren Brandverletzungen im Körper passiert und welche innovativen Technologien heute eingesetzt werden, um zerstörte Haut zu ersetzen. Entdecken Sie hautnah neue Entwicklungen – von künstlicher Haut bis zu biotechnologischen Heilmethoden der Zukunft.
LOCATION:Neue Stiftingtalstraße 6 (Aula und Hörsäle im Erdgeschoss), 8010 Graz
GEO:47.08049167;15.46980679
END:VEVENT
END:VCALENDAR