BEGIN:VCALENDAR
VERSION:2.0
PRODID:-//ERT//LNF26//DE
VERSION:2.0
BEGIN:VEVENT
UID:station_7152_20260324T154500Z
DTSTAMP:20260421T054900Z
URL:https://ert.langenachtderforschung.at/station/7152
DTSTART:20260324T154500Z
DTEND:20260424T200000Z
SUMMARY:[LNF26] Was passiert am Rathausplatz?: Lucid Dreams happy [30] Palace ART in Public SPACE Performance
DESCRIPTION:Im Rahmen der Langen Nacht der Forschung am 24.4.2026 verwandelt sich der Rathausplatz St. Pölten in eine temporäre Bühne: Ein überdimensionaler SKY DANCER erhebt sich als tanzende Skulptur zwischen Fest, Irritation und urbaner Choreografie. \nRauchringe und Nebelspuren verdichten die Atmosphäre – eine flüchtig-vergängliche Performance aus Wind, Bewegung und Licht, von 17 bis ca. 22 Uhr erlebbar.
LOCATION:Rathausplatz St. Pölten, südliche Hälfte, 3100 St. Pölten
GEO:48.20472995;15.62292069
END:VEVENT
END:VCALENDAR