BEGIN:VCALENDAR
VERSION:2.0
PRODID:-//ERT//LNF26//DE
VERSION:2.0
BEGIN:VEVENT
UID:station_7153_20260324T160000Z
DTSTAMP:20260420T020600Z
URL:https://ert.langenachtderforschung.at/station/7153
DTSTART:20260324T160000Z
DTEND:20260424T210000Z
SUMMARY:[LNF26] Wie kann unsere Haut besser heilen?
DESCRIPTION:Wir zeigen, wie Wundheilung auf allen Ebenen funktioniert und warum manche Wunden chronisch werden oder Narben gestört heilen. Sie erfahren, wie auch die Hautalterung auf Prozessebene erforscht wird und wie daraus neue Therapien der Präzisionsmedizin entstehen. So wird sichtbar, welchen Beitrag diese Forschung zu Healthy Aging leisten kann.
LOCATION:Neue Stiftingtalstraße 6 (Aula und Hörsäle im Erdgeschoss), 8010 Graz
GEO:47.08049167;15.46980679
END:VEVENT
END:VCALENDAR