BEGIN:VCALENDAR
VERSION:2.0
PRODID:-//ERT//LNF26//DE
VERSION:2.0
BEGIN:VEVENT
UID:station_7154_20260324T160000Z
DTSTAMP:20260420T033600Z
URL:https://ert.langenachtderforschung.at/station/7154
DTSTART:20260324T160000Z
DTEND:20260424T210000Z
SUMMARY:[LNF26] Was hält unser Gehirn fit – ein Leben lang?
DESCRIPTION:Sie erfahren, wie Sie Ihre Gehirngesundheit aktiv fördern können – durch Ernährung, Bewegung, geistige Aktivität, Schlaf, bewussten Medienkonsum und soziale Kontakte. Wir zeigen, wie Risikofaktoren erkannt werden, wie das „Gehirnalter“ gemessen wird und wie man normales Altern von Demenz unterscheidet. So wird sichtbar, welchen Beitrag das alles zu Healthy Aging leistet.
LOCATION:Neue Stiftingtalstraße 6 (Aula und Hörsäle im Erdgeschoss), 8010 Graz
GEO:47.08049167;15.46980679
END:VEVENT
END:VCALENDAR