BEGIN:VCALENDAR
VERSION:2.0
PRODID:-//ERT//LNF26//DE
VERSION:2.0
BEGIN:VEVENT
UID:station_7155_20260324T160000Z
DTSTAMP:20260420T033600Z
URL:https://ert.langenachtderforschung.at/station/7155
DTSTART:20260324T160000Z
DTEND:20260424T210000Z
SUMMARY:[LNF26] Wie beeinflusst Zucker unseren Stoffwechsel?
DESCRIPTION:Sie entdecken, wie Ernährung und Bewegung Ihren Stoffwechsel beeinflussen und warum Zucker dabei eine zentrale Rolle spielt. An interaktiven Stationen können Sie Blutzucker messen, Lebensmittel vergleichen und sensorische Eindrücke testen. Gleichzeitig erhalten Sie Einblicke in aktuelle Forschung – und erfahren, wie all das zu Healthy Aging beitragen kann.
LOCATION:Neue Stiftingtalstraße 6 (Aula und Hörsäle im Erdgeschoss), 8010 Graz
GEO:47.08049167;15.46980679
END:VEVENT
END:VCALENDAR