BEGIN:VCALENDAR
VERSION:2.0
PRODID:-//ERT//LNF26//DE
VERSION:2.0
BEGIN:VEVENT
UID:station_7156_20260324T160000Z
DTSTAMP:20260420T033700Z
URL:https://ert.langenachtderforschung.at/station/7156
DTSTART:20260324T160000Z
DTEND:20260424T210000Z
SUMMARY:[LNF26] Warum und wie können Fasten und Sport das Altern verlangsamen?
DESCRIPTION:Sie erfahren, warum kontrollierter „Stress“ durch Fasten und Sport den Körper stärkt und wie zelluläre Prozesse dabei helfen, Alterung zu verlangsamen. An unserer Station wird gezeigt, welche molekularen Mechanismen dahinterstecken und wie diese Erkenntnisse genutzt werden können, um Healthy Aging zu unterstützen.
LOCATION:Neue Stiftingtalstraße 6 (Aula und Hörsäle im Erdgeschoss), 8010 Graz
GEO:47.08049167;15.46980679
END:VEVENT
END:VCALENDAR