BEGIN:VCALENDAR
VERSION:2.0
PRODID:-//ERT//LNF26//DE
VERSION:2.0
BEGIN:VEVENT
UID:station_7157_20260324T160000Z
DTSTAMP:20260420T033700Z
URL:https://ert.langenachtderforschung.at/station/7157
DTSTART:20260324T160000Z
DTEND:20260424T210000Z
SUMMARY:[LNF26] HaushaltsLab: Wie lassen sich Proteine &amp; Fette in der Küche erforschen?
DESCRIPTION:Erforschen Sie, wie Öle und Fette einen eigenen „Ozean in der Flasche“ formen. Füttern Sie Gummibärchen mit Kiwi und entdecken Sie, wie Proteine reagieren. Finden Sie heraus, wo sich das Eiweiß in der Milch versteckt und was das mit Käse zu tun hat. Spielerisch lernen Sie, wie Ernährung und Biochemie sogar Healthy Aging beeinflussen können.
LOCATION:Neue Stiftingtalstraße 6 (Aula und Hörsäle im Erdgeschoss), 8010 Graz
GEO:47.08049167;15.46980679
END:VEVENT
END:VCALENDAR