BEGIN:VCALENDAR
VERSION:2.0
PRODID:-//ERT//LNF26//DE
VERSION:2.0
BEGIN:VEVENT
UID:station_7158_20260324T160000Z
DTSTAMP:20260420T033800Z
URL:https://ert.langenachtderforschung.at/station/7158
DTSTART:20260324T160000Z
DTEND:20260424T210000Z
SUMMARY:[LNF26] „FOREVER YOUNG“ – Wie hält uns Kollagen straff?
DESCRIPTION:Kollagen hält den Körper zusammen – von Haut über Knochen bis zu Sehnen. Hier entdecken Sie, wie dieses Strukturprotein aussieht, warum es mit Jugendlichkeit verbunden wird und wie Elektronenmikroskope seine feinsten Details sichtbar machen. Sie erfahren, was Kollagen mit Healthy Aging zu tun hat und wie Alter, Umwelt und Lebensstil seine Struktur verändern.
LOCATION:Neue Stiftingtalstraße 6 (Aula und Hörsäle im Erdgeschoss), 8010 Graz
GEO:47.08049167;15.46980679
END:VEVENT
END:VCALENDAR