BEGIN:VCALENDAR
VERSION:2.0
PRODID:-//ERT//LNF26//DE
VERSION:2.0
BEGIN:VEVENT
UID:station_7159_20260324T160000Z
DTSTAMP:20260420T033700Z
URL:https://ert.langenachtderforschung.at/station/7159
DTSTART:20260324T160000Z
DTEND:20260424T210000Z
SUMMARY:[LNF26] Kampf gegen altersbedingte Krankheiten: Wie kann die Biophysik gesundes Altern fördern?
DESCRIPTION:Bei uns erforschen Sie, wie moderne Experimente und Computermodelle Herz-Erkrankungen und Krebs besser verständlich machen. Sie können ein Herz interaktiv simulieren und Mini-Implantate für gezielte Medikamentenabgabe sehen. Dabei erfährst du, wie Biophysik neue Wege für Healthy Aging eröffnet.
LOCATION:Neue Stiftingtalstraße 6 (Aula und Hörsäle im Erdgeschoss), 8010 Graz
GEO:47.08049167;15.46980679
END:VEVENT
END:VCALENDAR