BEGIN:VCALENDAR
VERSION:2.0
PRODID:-//ERT//LNF26//DE
VERSION:2.0
BEGIN:VEVENT
UID:station_716_20260424T170000Z
DTSTAMP:20260420T052000Z
URL:https://ert.langenachtderforschung.at/station/716
DTSTART:20260424T170000Z
DTEND:20260424T180000Z
SUMMARY:[LNF26] Wie werden innovative Antriebskonzepte im realen Fahrzeug erlebbar?
DESCRIPTION:AVL zeigt mit seinen fahrbereiten Demo Cars, wie aktuelle und zukünftige Antriebstechnologien im Gesamtfahrzeug funktionieren. Die Prototypen decken ein breites Spektrum ab, von batterieelektrischen und hybriden Konzepten bis zu modernen Verbrennungsmotoren. Sie dienen als Plattform, um neue Antriebsstränge, Komponenten und Software unter realen Bedingungen zu testen und Innovationen sichtbar zu machen.
LOCATION:Hans-List-Platz 1, 8020 Graz
GEO:47.07802281;15.42457670
END:VEVENT
END:VCALENDAR