BEGIN:VCALENDAR
VERSION:2.0
PRODID:-//ERT//LNF26//DE
VERSION:2.0
BEGIN:VEVENT
UID:station_7160_20260324T160000Z
DTSTAMP:20260420T033800Z
URL:https://ert.langenachtderforschung.at/station/7160
DTSTART:20260324T160000Z
DTEND:20260424T210000Z
SUMMARY:[LNF26] Ist der Mensch, was er isst? Ernährungsmedizin heute
DESCRIPTION:Bei unserer Station finden Sie heraus, was Sie essen, schmecken und wie Ihr Körper zusammengesetzt ist. Sie testen Ihr Geschmacksempfinden, messen Carotinoide in Ihrer Haut und lernen nichtinvasive Methoden zur Bestimmung von Fett- und Muskelmasse kennen. Außerdem sehen Sie, wie 3D-Darmmodelle das Zusammenspiel von Ernährung und Immunabwehr erforschen – ein wichtiger Baustein für Healthy Aging.
LOCATION:Neue Stiftingtalstraße 6 (Aula und Hörsäle im Erdgeschoss), 8010 Graz
GEO:47.08049167;15.46980679
END:VEVENT
END:VCALENDAR