BEGIN:VCALENDAR
VERSION:2.0
PRODID:-//ERT//LNF26//DE
VERSION:2.0
BEGIN:VEVENT
UID:station_7163_20260424T160000Z
DTSTAMP:20260420T003700Z
URL:https://ert.langenachtderforschung.at/station/7163
DTSTART:20260424T160000Z
DTEND:20260424T170000Z
SUMMARY:[LNF26] Wie operiert man im Zentrum des Denkens? Neurochirurgie in 3D erleben
DESCRIPTION:Erleben Sie Neurochirurgie in 3D an der LED-Wall im Großen Anatomie-Hörsaal: Von anatomischen Gehirnmodellen, die sich dreidimensional im Raum bewegen, bis zum OP-Video – exakt so, wie es der Operateur durch das Operationsmikroskop sieht. Mit der 3D-Brille bist du mitten im Geschehen, kannst Fragen stellen und Hirnaneurysmen-, Schädelbasis- und Wachoperationen interaktiv verfolgen.
LOCATION:Auenbruggerplatz 25, 8036 Graz
GEO:47.08200982;15.46429619
END:VEVENT
END:VCALENDAR