BEGIN:VCALENDAR
VERSION:2.0
PRODID:-//ERT//LNF26//DE
VERSION:2.0
BEGIN:VEVENT
UID:station_7165_20260424T160000Z
DTSTAMP:20260421T001700Z
URL:https://ert.langenachtderforschung.at/station/7165
DTSTART:20260424T160000Z
DTEND:20260424T170000Z
SUMMARY:[LNF26] Zirkus des Wissens: Kamishibai. Chien-Shiung Wu - Königin der Physik
DESCRIPTION:In diesem Mitmach-Theaterstück geht es um eine bahnbrechende Atomphysikerin: Madame Wu, die chinesische Marie Curie. \nGeeignet für alle Menschen ab 6 Jahren.
LOCATION:Campus-Platz 1, 3100 St. Pölten
GEO:48.21313058;15.63179719
END:VEVENT
END:VCALENDAR