BEGIN:VCALENDAR
VERSION:2.0
PRODID:-//ERT//LNF26//DE
VERSION:2.0
BEGIN:VEVENT
UID:station_7171_20260324T160000Z
DTSTAMP:20260420T033700Z
URL:https://ert.langenachtderforschung.at/station/7171
DTSTART:20260324T160000Z
DTEND:20260424T210000Z
SUMMARY:[LNF26] Wie erforschen wir Mikro- und Nanoplastik – und was passiert mit ihnen im Labor?
DESCRIPTION:An unserer Mitmachstation entdecken Sie, wie Mikro- und Nanoplastik im Labor untersucht wird. Mystery Box, Quiz, Mikroskop, Plastikextraktion und Einblicke in die Zellkultur zeigen, wie Forschung an Plastik und seinen Auswirkungen funktioniert. Zusätzlich können Sie an einer Studie teilnehmen.
LOCATION:Neue Stiftingtalstraße 6 (Aula und Hörsäle im Erdgeschoss), 8010 Graz
GEO:47.08049167;15.46980679
END:VEVENT
END:VCALENDAR