BEGIN:VCALENDAR
VERSION:2.0
PRODID:-//ERT//LNF26//DE
VERSION:2.0
BEGIN:VEVENT
UID:station_7175_20260324T184500Z
DTSTAMP:20260421T002200Z
URL:https://ert.langenachtderforschung.at/station/7175
DTSTART:20260324T184500Z
DTEND:20260424T180500Z
SUMMARY:[LNF26] Special Guest: Wissenschaftsshow mit Elisabeth Oberzaucher von den Science Busters!
DESCRIPTION:Dr. Elisabeth Oberzaucher ist nicht nur als Forscherin im Schnittgebiet zwischen Verhaltensbiologie, Evolutionspsychologie, Gender-Studies und Mensch-Umwelt-Interaktion aktiv. Als Mitglied der Science Busters - der bekanntesten Wissenschaftskabarett-Truppe Österreichs - weiß sie auch auf sehr unterhaltsame und kurzweilige Weise Erkenntnisse aus der Forschung nahezubringen.
LOCATION:Campus-Platz 1, 3100 St. Pölten
GEO:48.21313058;15.63179719
END:VEVENT
END:VCALENDAR