BEGIN:VCALENDAR
VERSION:2.0
PRODID:-//ERT//LNF26//DE
VERSION:2.0
BEGIN:VEVENT
UID:station_7176_20260424T160000Z
DTSTAMP:20260420T033600Z
URL:https://ert.langenachtderforschung.at/station/7176
DTSTART:20260424T160000Z
DTEND:20260424T163000Z
SUMMARY:[LNF26] Vortrag: Die MetAGE-Studie: Wie erforschen wir gesundes Altern von der Zelle bis zum Menschen?
DESCRIPTION:Vortragende: \nAss.-Prof.in Priv.-Doz.in Dr.in Aitak Farzi, PhD.
LOCATION:Neue Stiftingtalstraße 6 (Aula und Hörsäle im Erdgeschoss), 8010 Graz
GEO:47.08049167;15.46980679
END:VEVENT
END:VCALENDAR