BEGIN:VCALENDAR
VERSION:2.0
PRODID:-//ERT//LNF26//DE
VERSION:2.0
BEGIN:VEVENT
UID:station_7177_20260424T170000Z
DTSTAMP:20260420T033700Z
URL:https://ert.langenachtderforschung.at/station/7177
DTSTART:20260424T170000Z
DTEND:20260424T173000Z
SUMMARY:[LNF26] Vortrag: Familiäres Krebsrisiko: Wie beeinflusst Genetik Diagnose und Vorsorge?
DESCRIPTION:Vortragender:\nAssoz. Prof. Priv.-Doz. Dr.med. Jochen Bernd Geigl
LOCATION:Neue Stiftingtalstraße 6 (Aula und Hörsäle im Erdgeschoss), 8010 Graz
GEO:47.08049167;15.46980679
END:VEVENT
END:VCALENDAR