BEGIN:VCALENDAR
VERSION:2.0
PRODID:-//ERT//LNF26//DE
VERSION:2.0
BEGIN:VEVENT
UID:station_7178_20260424T180000Z
DTSTAMP:20260420T033800Z
URL:https://ert.langenachtderforschung.at/station/7178
DTSTART:20260424T180000Z
DTEND:20260424T183000Z
SUMMARY:[LNF26] Vortrag: Healthy Aging anstatt Anti-Aging? Wie wir über zelluläre Signalwege gesundes Altern fördern können
DESCRIPTION:Vortragende:\nAssoz. Prof.in Priv.-Doz.in Mag.a Corina Madreiter-Sokolowski, PhD.
LOCATION:Neue Stiftingtalstraße 6 (Aula und Hörsäle im Erdgeschoss), 8010 Graz
GEO:47.08049167;15.46980679
END:VEVENT
END:VCALENDAR