BEGIN:VCALENDAR
VERSION:2.0
PRODID:-//ERT//LNF26//DE
VERSION:2.0
BEGIN:VEVENT
UID:station_7179_20260424T190000Z
DTSTAMP:20260420T033800Z
URL:https://ert.langenachtderforschung.at/station/7179
DTSTART:20260424T190000Z
DTEND:20260424T194500Z
SUMMARY:[LNF26] Vortrag: Gesundes Altern: Welche Rollen spielen Regenerative Technologien in der Medizin der Zukunft?
DESCRIPTION:Ein Vortrag im Rahmen von Meinmed, Vortragender:\nUniv.-Prof. Dr. Lars-Peter Kamolz, MSc
LOCATION:Neue Stiftingtalstraße 6 (Aula und Hörsäle im Erdgeschoss), 8010 Graz
GEO:47.08049167;15.46980679
END:VEVENT
END:VCALENDAR