BEGIN:VCALENDAR
VERSION:2.0
PRODID:-//ERT//LNF26//DE
VERSION:2.0
BEGIN:VEVENT
UID:station_718_20260424T160000Z
DTSTAMP:20260420T003200Z
URL:https://ert.langenachtderforschung.at/station/718
DTSTART:20260424T160000Z
DTEND:20260424T170000Z
SUMMARY:[LNF26] Wie wird Fahrzeuglärm unter realen Bedingungen getestet?
DESCRIPTION:Im Akustikrollenprüfstand von AVL zeigt sich, wie Mobilität der Zukunft entsteht. In einem nahezu lautlosen, schwebenden Raum werden Fahrzeuge auf Rollen bewegt, um selbst feinste Geräusche hörbar zu machen, vom Surren des E‑Motors bis zu Vibrationen. \nDer Ort zeigt, wie Präzision und Hightech Fahrzeuge leiser und sicherer machen.
LOCATION:Hans-List-Platz 1, 8020 Graz
GEO:47.07802281;15.42457670
END:VEVENT
END:VCALENDAR