BEGIN:VCALENDAR
VERSION:2.0
PRODID:-//ERT//LNF26//DE
VERSION:2.0
BEGIN:VEVENT
UID:station_7180_20260424T153000Z
DTSTAMP:20260420T034400Z
URL:https://ert.langenachtderforschung.at/station/7180
DTSTART:20260424T153000Z
DTEND:20260424T163000Z
SUMMARY:[LNF26] Vortrags-Block zum Thema „Healthy Lifestyle - Healthy Aging?“
DESCRIPTION:Vortrags-Block zum Thema „Healthy Lifestyle - Healthy Aging“ im Rahmen der Vortragsreihe "Medizin &  Gesellschaft"
LOCATION:Neue Stiftingtalstraße 6 (Aula und Hörsäle im Erdgeschoss), 8010 Graz
GEO:47.08049167;15.46980679
END:VEVENT
END:VCALENDAR