BEGIN:VCALENDAR
VERSION:2.0
PRODID:-//ERT//LNF26//DE
VERSION:2.0
BEGIN:VEVENT
UID:station_7183_20260324T160000Z
DTSTAMP:20260422T231200Z
URL:https://ert.langenachtderforschung.at/station/7183
DTSTART:20260324T160000Z
DTEND:20260424T173000Z
SUMMARY:[LNF26] Konsument*innen verstehen - Was passiert in der „Black-Box-Gehirn“?
DESCRIPTION:Konsument*innverhalten ist heute sehr dynamisch. Was passiert in der „Black-Box-Gehirn“? Welche Rolle spielen psychologische Mechanismen? Welche Rolle spielt das Phänomen „Marke“? Neben Einblicken aus der Forschung zu diesen Fragen kann auch mit einer „Black Box“ interagiert werden und es wird auf das aktuelle Schwerpunktthema „Financial Literacy“ aus Konsument*innensicht näher eingegangen.
LOCATION:Welthandelsplatz 1 TC, 1020 Wien
GEO:48.21250068;16.41016927
END:VEVENT
END:VCALENDAR