BEGIN:VCALENDAR
VERSION:2.0
PRODID:-//ERT//LNF26//DE
VERSION:2.0
BEGIN:VEVENT
UID:station_7184_20260324T160000Z
DTSTAMP:20260422T224800Z
URL:https://ert.langenachtderforschung.at/station/7184
DTSTART:20260324T160000Z
DTEND:20260424T173000Z
SUMMARY:[LNF26] Was (ver)spricht Geld und wie sprechen wir über Geld?
DESCRIPTION:In der Station „Money talks“ erforschen wir gemeinsam, was Geld (ver)spricht und wie wir über Geld sprechen. Was verrät uns der öffentliche Diskurs über unsere Einstellung zum Thema Geld? Welche Rolle spielen Finfluencer*innen in der heutigen Finanzwelt und wie gewinnen sie unser Vertrauen? Warum kaufen wir manchmal Dinge, die wir gar nicht brauchen, und welche Rolle spielen Sprache und Kommunikation dabei?
LOCATION:Welthandelsplatz 1 TC, 1020 Wien
GEO:48.21250068;16.41016927
END:VEVENT
END:VCALENDAR