BEGIN:VCALENDAR
VERSION:2.0
PRODID:-//ERT//LNF26//DE
VERSION:2.0
BEGIN:VEVENT
UID:station_7185_20260324T160000Z
DTSTAMP:20260422T225000Z
URL:https://ert.langenachtderforschung.at/station/7185
DTSTART:20260324T160000Z
DTEND:20260424T210000Z
SUMMARY:[LNF26] Wie lassen sich Lieferketten nachhaltig und zirkulär gestalten?
DESCRIPTION:Die Station zeigt, wie Logistik zur Gestaltung nachhaltiger Lieferketten und zur Kreislaufwirtschaft beitragen kann. Besucher*innen können selbst logistische Problemstellungen lösen, etwa die effizienteste Liefertour mit einem Lastenrad planen. Interaktive Spiele zum Thema Mobilität auf der Schiene und humanitärer Logistik geben Einblicke in spannende Herausforderungen der modernen Logistik.
LOCATION:Welthandelsplatz 1 TC, 1020 Wien
GEO:48.21250068;16.41016927
END:VEVENT
END:VCALENDAR