BEGIN:VCALENDAR
VERSION:2.0
PRODID:-//ERT//LNF26//DE
VERSION:2.0
BEGIN:VEVENT
UID:station_7187_20260424T150000Z
DTSTAMP:20260423T002000Z
URL:https://ert.langenachtderforschung.at/station/7187
DTSTART:20260424T150000Z
DTEND:20260424T210000Z
SUMMARY:[LNF26] Catching CO2 with data
DESCRIPTION:Prof. Kavita Surana from WU Vienna’s Institute for Data, Energy, and Sustainability has investigated how data-based models and targeted investments in climate technologies can help pave the way to carbon neutrality.
LOCATION:Online
END:VEVENT
END:VCALENDAR