BEGIN:VCALENDAR
VERSION:2.0
PRODID:-//ERT//LNF26//DE
VERSION:2.0
BEGIN:VEVENT
UID:station_7188_20260424T150000Z
DTSTAMP:20260423T002700Z
URL:https://ert.langenachtderforschung.at/station/7188
DTSTART:20260424T150000Z
DTEND:20260424T210000Z
SUMMARY:[LNF26] What companies can learn from football clubs
DESCRIPTION:Professional sports is a microcosm of society – and findings from the world of sports can provide important insights to improve management work in other areas.
LOCATION:Online
END:VEVENT
END:VCALENDAR