BEGIN:VCALENDAR
VERSION:2.0
PRODID:-//ERT//LNF26//DE
VERSION:2.0
BEGIN:VEVENT
UID:station_719_20260424T190000Z
DTSTAMP:20260420T020600Z
URL:https://ert.langenachtderforschung.at/station/719
DTSTART:20260424T190000Z
DTEND:20260424T200000Z
SUMMARY:[LNF26] Sind Sie bereit, den Herzschlag der Mobilität von morgen zu erleben?
DESCRIPTION:Das AVL Battery Innovation Center entwickelt auf 1.000 m² moderne Batteriemodule und -packs für E‑Fahrzeuge. Moderne Robotertechnik trifft hier auf präzise Handarbeit. Das BIC dient als Entwicklungs- und Testumgebung statt Massenproduktion, beschleunigt Innovationen und stärkt regionale Elektromobilitätskompetenz.
LOCATION:Hans-List-Platz 1, 8020 Graz
GEO:47.07802281;15.42457670
END:VEVENT
END:VCALENDAR