BEGIN:VCALENDAR
VERSION:2.0
PRODID:-//ERT//LNF26//DE
VERSION:2.0
BEGIN:VEVENT
UID:station_7191_20260424T160000Z
DTSTAMP:20260421T002100Z
URL:https://ert.langenachtderforschung.at/station/7191
DTSTART:20260424T160000Z
DTEND:20260424T170000Z
SUMMARY:[LNF26] Führung für Seniorinnen und Senioren
DESCRIPTION:Lernen Sie die modernen Labore und Studios der USTP - University of Applied Sciences St. Pölten (ehemals FH St. Pölten) kennen und erhalten Sie exklusive Einblicke in die aktuelle Forschung unserer Hochschule!\nDiese Spezialführung geht besonders auf die Interessen und Bedürfnisse von Senior:innen ein.
LOCATION:Campus-Platz 1, 3100 St. Pölten
GEO:48.21313058;15.63179719
END:VEVENT
END:VCALENDAR