BEGIN:VCALENDAR
VERSION:2.0
PRODID:-//ERT//LNF26//DE
VERSION:2.0
BEGIN:VEVENT
UID:station_7202_20260324T160000Z
DTSTAMP:20260421T002200Z
URL:https://ert.langenachtderforschung.at/station/7202
DTSTART:20260324T160000Z
DTEND:20260424T184500Z
SUMMARY:[LNF26] TV-Studio
DESCRIPTION:Lernen Sie das modern ausgestattete TV-Studio der USTP kennen!
LOCATION:Campus-Platz 1, 3100 St. Pölten
GEO:48.21313058;15.63179719
END:VEVENT
END:VCALENDAR