BEGIN:VCALENDAR
VERSION:2.0
PRODID:-//ERT//LNF26//DE
VERSION:2.0
BEGIN:VEVENT
UID:station_7228_20260324T160000Z
DTSTAMP:20260424T134400Z
URL:https://ert.langenachtderforschung.at/station/7228
DTSTART:20260324T160000Z
DTEND:20260424T190000Z
SUMMARY:[LNF26] Wie werden Videos mit Green Screen Technologie und KI-Avataren produziert? Ein Besuch im MediaLab der Universität
DESCRIPTION:Die Station bietet Kindern und Erwachsenen praxisnahe Einblicke in die Videoproduktion, in moderne Medientechnologien und in die Entstehung von KI-Avataren. Erleben Sie das Setting eines Fernsehstudios und probieren Sie die Green Screen Technologie vor Ort aus! Mit dieser Technik werden virtuelle Hintergründe in Echtzeit eingeblendet – und die gefilmten Personen an jeden erdenklichen Ort im Video „versetzt“.
LOCATION:Dr. Karl-Dorrek-Straße 30, 3500 Krems
GEO:48.40830956;15.58515436
END:VEVENT
END:VCALENDAR