BEGIN:VCALENDAR
VERSION:2.0
PRODID:-//ERT//LNF26//DE
VERSION:2.0
BEGIN:VEVENT
UID:station_7232_20260324T160000Z
DTSTAMP:20260420T003000Z
URL:https://ert.langenachtderforschung.at/station/7232
DTSTART:20260324T160000Z
DTEND:20260424T203000Z
SUMMARY:[LNF26] Wie wurde aus einer Idee ein Funke, der die AVL bis heute antreibt?
DESCRIPTION:Entdecken Sie die faszinierende Geschichte der AVL. Begleiten Sie uns auf einer inspirierenden Reise von frühen Innovationen bis zu den Mobilitätslösungen von morgen.
LOCATION:Hans-List-Platz 1, 8020 Graz
GEO:47.07802281;15.42457670
END:VEVENT
END:VCALENDAR