BEGIN:VCALENDAR
VERSION:2.0
PRODID:-//ERT//LNF26//DE
VERSION:2.0
BEGIN:VEVENT
UID:station_7244_20260324T160000Z
DTSTAMP:20260420T020500Z
URL:https://ert.langenachtderforschung.at/station/7244
DTSTART:20260324T160000Z
DTEND:20260424T203000Z
SUMMARY:[LNF26] Wie bereiten sich die Profis fürs nächste Rennen vor?
DESCRIPTION:AVL RACETECH stellt eine professionelle Fahrsimulationssoftware vor, die weit über herkömmliche Sim-Racing-Plattformen für Konsumenten hinausgeht.
LOCATION:Hans-List-Platz 1, 8020 Graz
GEO:47.07802281;15.42457670
END:VEVENT
END:VCALENDAR