BEGIN:VCALENDAR
VERSION:2.0
PRODID:-//ERT//LNF26//DE
VERSION:2.0
BEGIN:VEVENT
UID:station_7245_20260324T160000Z
DTSTAMP:20260424T134600Z
URL:https://ert.langenachtderforschung.at/station/7245
DTSTART:20260324T160000Z
DTEND:20260424T210000Z
SUMMARY:[LNF26] Was ist kälter als Eis?
DESCRIPTION:Gefrorenes Kohlenstoffdioxid wird auch „Trockeneis“ genannt, weil es nicht schmilzt. Doch dieses Eis ist viel kälter als Eis aus Wasser: Es hat minus 78,48 Grad! Doch gerade diese tiefe Temperatur macht das Experimentieren mit Trockeneis so spannend. Plötzlich wallen riesige Nebelschwaden aus Schüsseln, Löffel schreien und die Besucher*innen der Station schlürfen rauchende Tränke.
LOCATION:Dr. Karl-Dorrek-Straße 30, 3500 Krems
GEO:48.40830956;15.58515436
END:VEVENT
END:VCALENDAR