BEGIN:VCALENDAR
VERSION:2.0
PRODID:-//ERT//LNF26//DE
VERSION:2.0
BEGIN:VEVENT
UID:station_7261_20260324T160000Z
DTSTAMP:20260419T211000Z
URL:https://ert.langenachtderforschung.at/station/7261
DTSTART:20260324T160000Z
DTEND:20260424T200000Z
SUMMARY:[LNF26] Deine Zukunft aufleveln?
DESCRIPTION:Eine Lehre bei ANDRITZ in Weiz ist dein Sprungbrett für eine erfolgreiche Zukunft. Du arbeitest mit modernster Technik, übernimmst Verantwortung und gestaltest innovative Lösungen mit. Schritt für Schritt entwickelst du dich zur gefragten Fachkraft mit internationalen Einsatzmöglichkeiten. Wir fördern deine Talente gezielt und eröffnen dir langfristige Karriereperspektiven in einem global erfolgreichen Unternehmen.
LOCATION:Roseggergasse 12 Tor 11, 8160 Weiz
GEO:47.22257569;15.62101316
END:VEVENT
END:VCALENDAR