BEGIN:VCALENDAR
VERSION:2.0
PRODID:-//ERT//LNF26//DE
VERSION:2.0
BEGIN:VEVENT
UID:station_7269_20260424T151500Z
DTSTAMP:20260420T003700Z
URL:https://ert.langenachtderforschung.at/station/7269
DTSTART:20260424T151500Z
DTEND:20260424T161500Z
SUMMARY:[LNF26] Brauchen wir im Musikunterricht mehr Jazz und Pop? (17:15)
DESCRIPTION:Im Projekt „Jazz and Popular Music Research Goes to School“ analysieren wir Lehrmaterialen und Unterrichtspraxis, besuchen Partnerschulen und führen Interviews mit Lehrenden. Ziele: Bestandsaufnahme zu Jazz und Popularmusik im allgemeinen Musikunterricht sowie die Entwicklung konkreter Impulse und Materialien, die den Zugang zu diesen Ausdrucksformen erleichtern. Vortragende: Christa Bruckner-Haring, Lena Kerber
LOCATION:Leonhardstraße 19 Bühne, 8010 Graz
GEO:47.07245350;15.45048685
END:VEVENT
END:VCALENDAR